BEGIN:VCALENDAR
VERSION:2.0
PRODID:-//hacksw/handcal//NONSGML v1.0//EN
CALSCALE:GREGORIAN
BEGIN:VEVENT
DTSTART:20091213T150000Z
DTEND:20091213T150000Z
UID:e8806
DTSTAMP:20260421T114510Z
LOCATION:
DESCRIPTION:אסטרונומיה לכולם
SUMMARY:אסטרונומיה לכולם
END:VEVENT
END:VCALENDAR