BEGIN:VCALENDAR
VERSION:2.0
PRODID:-//hacksw/handcal//NONSGML v1.0//EN
CALSCALE:GREGORIAN
BEGIN:VEVENT
DTSTART:20091209T080000Z
DTEND:20091209T080000Z
UID:e8817
DTSTAMP:20260424T055746Z
LOCATION:Jacob Ziskind Building
DESCRIPTION:On exceptional nilpotents in semisimple Lie algebras 
SUMMARY:On exceptional nilpotents in semisimple Lie algebras 
END:VEVENT
END:VCALENDAR