BEGIN:VCALENDAR
VERSION:2.0
PRODID:-//hacksw/handcal//NONSGML v1.0//EN
CALSCALE:GREGORIAN
BEGIN:VEVENT
DTSTART:20100112T173000Z
DTEND:20100112T173000Z
UID:e8826
DTSTAMP:20260422T151344Z
LOCATION:
DESCRIPTION:"Habanaliyut shel Ha'ahava" - Beit Lessin Theater
SUMMARY:"Habanaliyut shel Ha'ahava" - Beit Lessin Theater
END:VEVENT
END:VCALENDAR