BEGIN:VCALENDAR
VERSION:2.0
PRODID:-//hacksw/handcal//NONSGML v1.0//EN
CALSCALE:GREGORIAN
BEGIN:VEVENT
DTSTART:20100608T070000Z
DTEND:20100608T070000Z
UID:e8840
DTSTAMP:20260424T055753Z
LOCATION:Wolfson Building for Biological Research
DESCRIPTION:The DNA damage response protein MDC1 plays a role in cell cycle regulation and  in V(D)J recombination
SUMMARY:The DNA damage response protein MDC1 plays a role in cell cycle regulation and  in V(D)J recombination
END:VEVENT
END:VCALENDAR