BEGIN:VCALENDAR
VERSION:2.0
PRODID:-//hacksw/handcal//NONSGML v1.0//EN
CALSCALE:GREGORIAN
BEGIN:VEVENT
DTSTART:20091214T111500Z
DTEND:20091214T111500Z
UID:e8842
DTSTAMP:20260420T081005Z
LOCATION:Edna and K.B. Weissman Building of Physical Sciences
DESCRIPTION:The stochastic geometry of the cosmic shear
SUMMARY:The stochastic geometry of the cosmic shear
END:VEVENT
END:VCALENDAR