BEGIN:VCALENDAR
VERSION:2.0
PRODID:-//hacksw/handcal//NONSGML v1.0//EN
CALSCALE:GREGORIAN
BEGIN:VEVENT
DTSTART:20100103T120000Z
DTEND:20100103T130000Z
UID:e8843
DTSTAMP:20260421T180720Z
LOCATION:Max and Lillian Candiotty Building
DESCRIPTION:Making light sound: multispectral optoacoustic tomography shatters the barriers of optical microscopies
SUMMARY:Making light sound: multispectral optoacoustic tomography shatters the barriers of optical microscopies
END:VEVENT
END:VCALENDAR