BEGIN:VCALENDAR
VERSION:2.0
PRODID:-//hacksw/handcal//NONSGML v1.0//EN
CALSCALE:GREGORIAN
BEGIN:VEVENT
DTSTART:20091220T080000Z
DTEND:20091220T080000Z
UID:e8854
DTSTAMP:20260421T213453Z
LOCATION:Sussman Family Building for Environmental Sciences
DESCRIPTION:"Real and perceived hurdles to addressing climate change: A view from the social sciences"
SUMMARY:"Real and perceived hurdles to addressing climate change: A view from the social sciences"
END:VEVENT
END:VCALENDAR