BEGIN:VCALENDAR
VERSION:2.0
PRODID:-//hacksw/handcal//NONSGML v1.0//EN
CALSCALE:GREGORIAN
BEGIN:VEVENT
DTSTART:20100103T080000Z
DTEND:20100103T080000Z
UID:e8856
DTSTAMP:20260422T033943Z
LOCATION:Sussman Family Building for Environmental Sciences
DESCRIPTION:Marine Sediment Dynamics: A Grain-Scale Model Coupling Mechanics\, Multiphase Fluid Flow\, and Hydrate Formation
SUMMARY:Marine Sediment Dynamics: A Grain-Scale Model Coupling Mechanics\, Multiphase Fluid Flow\, and Hydrate Formation
END:VEVENT
END:VCALENDAR