BEGIN:VCALENDAR
VERSION:2.0
PRODID:-//hacksw/handcal//NONSGML v1.0//EN
CALSCALE:GREGORIAN
BEGIN:VEVENT
DTSTART:20091229T110000Z
DTEND:20091229T120000Z
UID:e8882
DTSTAMP:20260422T151341Z
LOCATION:Helen and Milton A. Kimmelman Building
DESCRIPTION:Optical tools for structure and function: From single molecule to whole organism
SUMMARY:Optical tools for structure and function: From single molecule to whole organism
END:VEVENT
END:VCALENDAR