BEGIN:VCALENDAR
VERSION:2.0
PRODID:-//hacksw/handcal//NONSGML v1.0//EN
CALSCALE:GREGORIAN
BEGIN:VEVENT
DTSTART:20100215T143000Z
DTEND:20100215T143000Z
UID:e8999
DTSTAMP:20260420T213620Z
LOCATION:
DESCRIPTION:Children's Theater - "Hamofah shel Udi v' Aviad"
SUMMARY:Children's Theater - "Hamofah shel Udi v' Aviad"
END:VEVENT
END:VCALENDAR