BEGIN:VCALENDAR
VERSION:2.0
PRODID:-//hacksw/handcal//NONSGML v1.0//EN
CALSCALE:GREGORIAN
BEGIN:VEVENT
DTSTART:20100219T080000Z
DTEND:20100219T080000Z
UID:e9004
DTSTAMP:20260421T085244Z
LOCATION:Dolfi and Lola Ebner Auditorium
DESCRIPTION:Songs from the Repertoire of Shoshana Damary
SUMMARY:Songs from the Repertoire of Shoshana Damary
END:VEVENT
END:VCALENDAR