BEGIN:VCALENDAR
VERSION:2.0
PRODID:-//hacksw/handcal//NONSGML v1.0//EN
CALSCALE:GREGORIAN
BEGIN:VEVENT
DTSTART:20100215T080000Z
DTEND:20100215T080000Z
UID:e9028
DTSTAMP:20260420T230237Z
LOCATION:Gerhard M.J. Schmidt Lecture Hall
DESCRIPTION:The Dynamics of Proton Transfer in Aqueous Hydroxide Solutions
SUMMARY:The Dynamics of Proton Transfer in Aqueous Hydroxide Solutions
END:VEVENT
END:VCALENDAR