BEGIN:VCALENDAR
VERSION:2.0
PRODID:-//hacksw/handcal//NONSGML v1.0//EN
CALSCALE:GREGORIAN
BEGIN:VEVENT
DTSTART:20100215T110000Z
DTEND:20100215T110000Z
UID:e9032
DTSTAMP:20260420T230228Z
LOCATION:Max and Lillian Candiotty Building
DESCRIPTION:Magnetic resonance in the diagnosis of cancer: A help for women?
SUMMARY:Magnetic resonance in the diagnosis of cancer: A help for women?
END:VEVENT
END:VCALENDAR