BEGIN:VCALENDAR
VERSION:2.0
PRODID:-//hacksw/handcal//NONSGML v1.0//EN
CALSCALE:GREGORIAN
BEGIN:VEVENT
DTSTART:20100217T131500Z
DTEND:20100217T131500Z
UID:e9046
DTSTAMP:20260421T102937Z
LOCATION:Dolfi and Lola Ebner Auditorium
DESCRIPTION:Tiberias of Jund al-Urdunn:
SUMMARY:Tiberias of Jund al-Urdunn:
END:VEVENT
END:VCALENDAR