BEGIN:VCALENDAR
VERSION:2.0
PRODID:-//hacksw/handcal//NONSGML v1.0//EN
CALSCALE:GREGORIAN
BEGIN:VEVENT
DTSTART:20100214T101500Z
DTEND:20100214T111500Z
UID:e9094
DTSTAMP:20260421T114647Z
LOCATION:Edna and K.B. Weissman Building of Physical Sciences
DESCRIPTION:Adaptive response by state-dependent inactivation
SUMMARY:Adaptive response by state-dependent inactivation
END:VEVENT
END:VCALENDAR