BEGIN:VCALENDAR
VERSION:2.0
PRODID:-//hacksw/handcal//NONSGML v1.0//EN
CALSCALE:GREGORIAN
BEGIN:VEVENT
DTSTART:20100216T080000Z
DTEND:20100216T090000Z
UID:e9163
DTSTAMP:20260420T195105Z
LOCATION:Ullmann Building of Life Sciences
DESCRIPTION:"Transposon dynamics in the wheat genome"
SUMMARY:"Transposon dynamics in the wheat genome"
END:VEVENT
END:VCALENDAR