BEGIN:VCALENDAR
VERSION:2.0
PRODID:-//hacksw/handcal//NONSGML v1.0//EN
CALSCALE:GREGORIAN
BEGIN:VEVENT
DTSTART:20100209T080000Z
DTEND:20100209T090000Z
UID:e9172
DTSTAMP:20260420T045928Z
LOCATION:Ullmann Building of Life Sciences
DESCRIPTION:"Compound leaves asymmetry development mediated by ARF3/ETT and ARF4"
SUMMARY:"Compound leaves asymmetry development mediated by ARF3/ETT and ARF4"
END:VEVENT
END:VCALENDAR