BEGIN:VCALENDAR
VERSION:2.0
PRODID:-//hacksw/handcal//NONSGML v1.0//EN
CALSCALE:GREGORIAN
BEGIN:VEVENT
DTSTART:20100218T110000Z
DTEND:20100218T120000Z
UID:e9174
DTSTAMP:20260421T102938Z
LOCATION:Gerhard M.J. Schmidt Lecture Hall
DESCRIPTION:"Discrete Steps by a Packing Motor and the Intersubunit Coordination in a Ring ATPase"
SUMMARY:"Discrete Steps by a Packing Motor and the Intersubunit Coordination in a Ring ATPase"
END:VEVENT
END:VCALENDAR