BEGIN:VCALENDAR
VERSION:2.0
PRODID:-//hacksw/handcal//NONSGML v1.0//EN
CALSCALE:GREGORIAN
BEGIN:VEVENT
DTSTART:20100211T110000Z
DTEND:20100211T110000Z
UID:e9181
DTSTAMP:20260420T115928Z
LOCATION:Helen and Milton A. Kimmelman Building
DESCRIPTION:"Electron-Poor Pincer Complexes of Late Transition Metals: Synthesis and Reactivity"
SUMMARY:"Electron-Poor Pincer Complexes of Late Transition Metals: Synthesis and Reactivity"
END:VEVENT
END:VCALENDAR