BEGIN:VCALENDAR
VERSION:2.0
PRODID:-//hacksw/handcal//NONSGML v1.0//EN
CALSCALE:GREGORIAN
BEGIN:VEVENT
DTSTART:20100211T080000Z
DTEND:20100211T080000Z
UID:e9186
DTSTAMP:20260420T050043Z
LOCATION:Perlman Chemical Sciences Building
DESCRIPTION:Applications of Nanosphere Lithography to Synthesize
SUMMARY:Applications of Nanosphere Lithography to Synthesize
END:VEVENT
END:VCALENDAR