BEGIN:VCALENDAR
VERSION:2.0
PRODID:-//hacksw/handcal//NONSGML v1.0//EN
CALSCALE:GREGORIAN
BEGIN:VEVENT
DTSTART:20100221T164500Z
DTEND:20100221T164500Z
UID:e9207
DTSTAMP:20260421T085046Z
LOCATION:
DESCRIPTION:אסטרונומיה לכולם
SUMMARY:אסטרונומיה לכולם
END:VEVENT
END:VCALENDAR