BEGIN:VCALENDAR
VERSION:2.0
PRODID:-//hacksw/handcal//NONSGML v1.0//EN
CALSCALE:GREGORIAN
BEGIN:VEVENT
DTSTART:20100209T100000Z
DTEND:20100209T133000Z
UID:e9209
DTSTAMP:20260420T045835Z
LOCATION:The David Lopatie Hall of Graduate Studies
DESCRIPTION:!!canceled due to illness of speaker!! siRNA and microRNA mini symposium
SUMMARY:!!canceled due to illness of speaker!! siRNA and microRNA mini symposium
END:VEVENT
END:VCALENDAR