BEGIN:VCALENDAR
VERSION:2.0
PRODID:-//hacksw/handcal//NONSGML v1.0//EN
CALSCALE:GREGORIAN
BEGIN:VEVENT
DTSTART:20100215T111500Z
DTEND:20100215T111500Z
UID:e9230
DTSTAMP:20260420T230221Z
LOCATION:Perlman Chemical Sciences Building
DESCRIPTION:Statistical Physics of Random Codes in Information Theory
SUMMARY:Statistical Physics of Random Codes in Information Theory
END:VEVENT
END:VCALENDAR