BEGIN:VCALENDAR
VERSION:2.0
PRODID:-//hacksw/handcal//NONSGML v1.0//EN
CALSCALE:GREGORIAN
BEGIN:VEVENT
DTSTART:20100216T080000Z
DTEND:20100216T080000Z
UID:e9243
DTSTAMP:20260421T114620Z
LOCATION:Jacob Ziskind Building
DESCRIPTION:Learning from Multiple Teachers 
SUMMARY:Learning from Multiple Teachers 
END:VEVENT
END:VCALENDAR