BEGIN:VCALENDAR
VERSION:2.0
PRODID:-//hacksw/handcal//NONSGML v1.0//EN
CALSCALE:GREGORIAN
BEGIN:VEVENT
DTSTART:20100217T110000Z
DTEND:20100217T120000Z
UID:e9254
DTSTAMP:20260421T085130Z
LOCATION:Edna and K.B. Weissman Building of Physical Sciences
DESCRIPTION:Planet formation - the next generation: Some overlooked topics in planet formation
SUMMARY:Planet formation - the next generation: Some overlooked topics in planet formation
END:VEVENT
END:VCALENDAR