BEGIN:VCALENDAR
VERSION:2.0
PRODID:-//hacksw/handcal//NONSGML v1.0//EN
CALSCALE:GREGORIAN
BEGIN:VEVENT
DTSTART:20100221T100000Z
DTEND:20100221T113000Z
UID:e9271
DTSTAMP:20260423T065758Z
LOCATION:Edna and K.B. Weissman Building of Physical Sciences
DESCRIPTION:TBA
SUMMARY:TBA
END:VEVENT
END:VCALENDAR